BEGIN:VCALENDAR
VERSION:2.0
PRODID:icalendar-ruby
CALSCALE:GREGORIAN
METHOD:PUBLISH
BEGIN:VEVENT
DTSTAMP:20260424T113155Z
UID:128-1141813@newwalk.me
DTSTART:20260503T140000Z
DTEND:20260504T030000Z
CLASS:PUBLIC
CREATED:20260423T193621
DESCRIPTION:Step into something deeper. Our 90 Day Challenge is a call to f
 aithful\, consistent worship that transforms your life from the inside out
 . Starting May 3rd\, commit to being present\, growing in the Word\, and m
 aking an impact alongside your church family. Ninety days of commitment ca
 n shape a lifetime of spiritual strength. Don’t just attend church. Buil
 d a rhythm that changes you. Are you in?
LAST-MODIFIED:20260423T193621
LOCATION:3121 Park Avenue\, South Plainfield\, NJ 07080
SUMMARY:90-Day Faithful Attendance Challenge
URL;VALUE=URI:https://newwalk.me/events/90-day-faithful-attendance-challeng
 e/2026-05-03
ATTACH;FILENAME=ChatGPT-Image-Apr-23-2026-05_45_30-PM.png;FMTTYPE=image/png
 :https://dq5pwpg1q8ru0.cloudfront.net/2026/04/23/23/36/21/0384b867-755a-4f
 46-9d07-149e976ccfce/ChatGPT-Image-Apr-23-2026-05_45_30-PM.png
END:VEVENT
END:VCALENDAR
